BEGIN:VCALENDAR
PRODID:-//vBulletin 6//EN
VERSION:2.0
CALSCALE:GREGORIAN
BEGIN:VEVENT
UID:24002508-c16b-4dfe-adcc-67fa9148cf60
DTSTAMP:20260425T182354Z
SUMMARY:The graphical representation of all the hosts with multiple panes i
 n a small window.
DESCRIPTION:As shown in the attachment I have selected an option of the Hos
 t as "all" and I get to view the graphs by selecting the CPU Utilization f
 or each host or server. Likewise\, I would like to view the graphs for all
  the servers by selecting an option all in the Graph > CPU Utilization > a
 ll with multiple panes in a single window of the graphical representation.
  Let me know if the feature is already available or if it is feasible to a
 dd it as an option.
URL:https://www.zabbix.com/forum/node/364519
DTSTART;VALUE=DATE:20180820
END:VEVENT
END:VCALENDAR
