BEGIN:VCALENDAR
PRODID:-//vBulletin 6//EN
VERSION:2.0
CALSCALE:GREGORIAN
BEGIN:VEVENT
UID:6bee8063-4613-49a9-8205-977f0e23ed1d
DTSTAMP:20260423T235233Z
SUMMARY:How to install and configure the zabbix api
DESCRIPTION:Hello all .\nwe are new in Zabbix and would like to use the Zab
 bix API to add/create a list of given hosts in the network. \nour zabbix v
 ersion is 4 and is installed on Centos 7 \nplease advice what should be in
 stalled in the server to support this activity\,\nand how to configure and
  start the host creation.\n\nRegards
URL:https://www.zabbix.com/forum/node/372849
DTSTART;VALUE=DATE:20190128
LOCATION:Israel
END:VEVENT
END:VCALENDAR
