BEGIN:VCALENDAR
PRODID:-//vBulletin 6//EN
VERSION:2.0
CALSCALE:GREGORIAN
BEGIN:VEVENT
UID:9b69ef3d-da42-4cb6-b862-8f3cbfea0875
DTSTAMP:20260422T224941Z
SUMMARY:How can I integrate Cisco Switch View into Zabbix's Dashboard?
DESCRIPTION:Recently\, I had managed to setup and implement the usage of Za
 bbix into my corporate's network. The objective was to monitor our 20x Cis
 co C9200L-48T-4G Switches due to history of experiencing port-disabled\, s
 ign of auto-negotiation issues as well as link-down. These issues has sinc
 e been stabilized as compared to previous months.\n\nHence\, I am looking 
 to integrate the Cisco Switch View (refer to Fig 1) into the Zabbix's dash
 board.\n\nMay I know how can it be done? Your assistance is greatly apprec
 iated. {"alt":"Fig 1: Cisco Switch View"\,"data-align":"center"\,"data-siz
 e":"full"\,"src":"https:\\/\\/preview.redd.it\\/b0ja69svafc81.png?width=89
 0&format=png&auto=webp&s=caaba7d7e0ae4e4540d8b18e64bed06649d73e18"}\n    \
 n​Fig 1: Cisco Switch View\n \n\n{"data-align":"none"\,"data-size":"full
 "\,"src":"https:\\/\\/www.zabbix.com\\/forum\\/core\\/image\\/gif\;base64\
 ,R0lGODlhAQABAPABAP\\/\\/\\/wAAACH5BAEKAAAALAAAAAABAAEAAAICRAEAOw=="}
URL:https://www.zabbix.com/forum/node/438289
DTSTART;VALUE=DATE:20220119
DTEND;VALUE=DATE:20220201
END:VEVENT
END:VCALENDAR
